Workbook

Sheet ELŐLAP
B10: TÉTELES TERVEZŐI KÖLTSÉGVETÉS
C15: KÉSZÜLT 2000 SZENTENDRE, RÁKÓCZ UTCA 1. SZÁM ALATTI
C16: SZENTENDRE NÉPMŰVÉSZETEK HÁZA KIVITELEZÉSI MUNKÁIHOZ
C38: ÉPÍTÉSZ TERVEZŐ: | D38: JASSÓ Építészműhely Kft.
D39: 2000 Szentendre, Aradi utca 10.
C41: MEGRENDELŐ: | D41: Szentendre Város Önkormányzata
D42: 2000 Szentendre, Városház tér 3.
C44: KÉSZÜLT : | D44: Budapest, 2018. március

Sheet Általános leírás
B2: ÁLTALÁNOS LEÍRÁS A KÖLTSÉGVETÉSHEZ
B3: =ELŐLAP!C15 -> KÉSZÜLT 2000 SZENTENDRE, RÁKÓCZ UTCA 1. SZÁM ALATTI
B4: =ELŐLAP!C16 -> SZENTENDRE NÉPMŰVÉSZETEK HÁZA KIVITELEZÉSI MUNKÁIHOZ
B6: A költségvetés a 2018.03.20-án kelt építészeti állagmegóvási tervhez készült.
B8: Jelen költségvetés csak az építészeti és tartószerkezeti, valamint a gépészeti munkákat tartalmazza, az elektromos munkák és az azokhoz tartozó szerelő kőműves munkák külön költségvetésben szerepelnek.
B10: Az egyes tételeknél és munkanemeknél, valamint a főösszesítőben szereplő képletek ellenőrizendők.
B12: A felsorolt anyagok csak építész javaslatok, azzal egyenértékű termékkel helyettesíthetők, azzal a kitétellel, hogy mindenben meg kell felelniük a vonatkozó műszaki leírásában szereplő arculati kialakításnak.
B13: A konkrét termék kiválasztása során a Tervezővel egyeztetni kell.
B15: Az alkalmazandó termékek ( pl : belső nyílászárók, lakatos- és üveg szerkezetek, burkolatok, stb ) csak bemutatott minta után építhetők be.
B17: A költségvetés együtt kezelendő a műszaki leírással ( anyagkiírás ), a tervekkel, konszignációkkal, a statikai és a faanyagvédelmi szakvéleménnyel.

Sheet Összesítő
B2: KÖLTSÉGVETÉS ÖSSZESÍTŐ
B3: ='Általános leírás'!B4 -> SZENTENDRE NÉPMŰVÉSZETEK HÁZA KIVITELEZÉSI MUNKÁIHOZ
B5: Ssz | C5: Munkanem megnevezése | D5: Anyag összege | E5: Díj összege
B6: 1. | C6: 1. FELVONULÁSI LÉTESÍTMÉNYEK | D6: ='Tételes költségvetés'!I16 -> 0 | E6: ='Tételes költségvetés'!J16 -> 0
B7: 2. | C7: 2. FELVONULÁSI LÉTESÍTMÉNYEK | D7: ='Tételes költségvetés'!I28 -> 0 | E7: ='Tételes költségvetés'!J28 -> 0
B8: 3. | C8: 3. KÖLTSÉGTÉRÍTÉSEK | D8: ='Tételes költségvetés'!I39 -> 0 | E8: ='Tételes költségvetés'!J39 -> 0
B9: 4. | C9: 4. KÖLTSÉGTÉRÍTÉSEK | D9: ='Tételes költségvetés'!I51 -> 0 | E9: ='Tételes költségvetés'!J51 -> 0
B10: 5. | C10: 7. BONTÁS ÉS SITT ELSZÁLLÍTÁS | D10: ='Tételes költségvetés'!I59 -> 0 | E10: ='Tételes költségvetés'!J59 -> 0
B11: 6. | C11: 8. BONTÁS ÉS SITT ELSZÁLLÍTÁS | D11: ='Tételes költségvetés'!I67 -> 0 | E11: ='Tételes költségvetés'!J67 -> 0
B12: 7. | C12: 9. PINCE MEGERŐSÍTÉSEK | D12: ='Tételes költségvetés'!I76 -> 0 | E12: ='Tételes költségvetés'!J76 -> 0
B13: 8. | C13: 10. NEDVESSÉG ELLENI KÜLSŐ OLDALI VÉDELEM | D13: ='Tételes költségvetés'!I93 -> 0 | E13: ='Tételes költségvetés'!J93 -> 0
B14: 9. | C14: 11. PINCE FELETTI FÖDÉM FELTÁRÁS ÉS PADLÓRÉTEGREND ELTÁVOLÍTÁSA | D14: ='Tételes költségvetés'!I101 -> 0 | E14: ='Tételes költségvetés'!J101 -> 0
B15: 10. | C15: 12. PINCE SZERKEZETI ELEMEK | D15: ='Tételes költségvetés'!I112 -> 0 | E15: ='Tételes költségvetés'!J112 -> 0
B16: 11. | C16: 13. PINCE FAANYAGVÉDELEM | D16: ='Tételes költségvetés'!I119 -> 0 | E16: ='Tételes költségvetés'!J119 -> 0
B17: 12. | C17: 14. PINCE PADLÓ NEDVESSÉG ELLENI VÉDELME | D17: ='Tételes költségvetés'!I129 -> 0 | E17: ='Tételes költségvetés'!J129 -> 0
B18: 13. | C18: 15. PINCE NYÍLÁSZÁRÓ JAVÍTÁS | D18: ='Tételes költségvetés'!I141 -> 0 | E18: ='Tételes költségvetés'!J141 -> 0
B19: 14. | C19: 16. FÖLDSZINTI NYÍLÁSKIVÁLTÁSOK ÉS SZERKEZETI ELEMEK MEGERŐSÍTÉSE | D19: ='Tételes költségvetés'!I149 -> 0 | E19: ='Tételes költségvetés'!J149 -> 0
B20: 15. | C20: 17. FÖLDSZINTI FAANYAGVÉDELEM | D20: ='Tételes költségvetés'!I154 -> 0 | E20: ='Tételes költségvetés'!J154 -> 0
B21: 16. | C21: 18. FÖLDSZINTI KÜLSŐ FELÜLETKÉPZÉS | D21: ='Tételes költségvetés'!I167 -> 0 | E21: ='Tételes költségvetés'!J167 -> 0
B22: 17. | C22: 19. FÖLDSZINTI BELSŐ FELÜLETKÉPZÉS | D22: ='Tételes költségvetés'!I177 -> 0 | E22: ='Tételes költségvetés'!J177 -> 0
B23: 18. | C23: 20. FÖLDSZINTI KÜLSŐ ÉS BELSŐ NEDVESSÉG ELLENI VÉDELEM | D23: ='Tételes költségvetés'!I190 -> 0 | E23: ='Tételes költségvetés'!J190 -> 0
B24: 19. | C24: 21. FÖLDSZINTI HOMLOKZAT JAVÍTÁS | D24: ='Tételes költségvetés'!I196 -> 0 | E24: ='Tételes költségvetés'!J196 -> 0
B25: 20. | C25: 22. FÖLDSZINTI NYÍLÁSZÁRÓ JAVÍTÁS | D25: ='Tételes költségvetés'!I217 -> 0 | E25: ='Tételes költségvetés'!J217 -> 0
B26: 21. | C26: 23. FÖLDSZINTI PADLÓ RÉTEGREND NEDVESSÉG ELLENI VÉDELME | D26: ='Tételes költségvetés'!I222 -> 0 | E26: ='Tételes költségvetés'!J222 -> 0
B27: 22. | C27: 24. FÖLDSZINTI PADLÓBURKOLAT VIZSGÁLAT ÉS SÉRÜLT RÉSZEK CSERÉJE | D27: ='Tételes költségvetés'!I230 -> 0 | E27: ='Tételes költségvetés'!J230 -> 0
B28: 23. | C28: 25. FÖLDSZINT FELETTI FÖDÉM FELTÁRÁS | D28: ='Tételes költségvetés'!I243 -> 0 | E28: ='Tételes költségvetés'!J243 -> 0
B29: 24. | C29: 26. FÖLDSZINT FELETTI FÖDÉM SZERKEZETI ELEMEK | D29: ='Tételes költségvetés'!I254 -> 0 | E29: ='Tételes költségvetés'!J254 -> 0
B30: 25. | C30: 27. FÖLDSZINT FAANYAGVÉDELEM | D30: ='Tételes költségvetés'!I261 -> 0 | E30: ='Tételes költségvetés'!J261 -> 0
B31: 26. | C31: 28. FEDÉLSZÉK JAVÍTÁS | D31: ='Tételes költségvetés'!I282 -> 0 | E31: ='Tételes költségvetés'!J282 -> 0
B32: 27. | C32: 29. HÉJALÁS ÉS BÁDOGOZÁS | D32: ='Tételes költségvetés'!I303 -> 0 | E32: ='Tételes költségvetés'!J303 -> 0
B33: 28. | C33: 30. AGYAGTAPASZTÁS | D33: ='Tételes költségvetés'!I308 -> 0 | E33: ='Tételes költségvetés'!J308 -> 0
B34: 29. | C34: 31. DESZKÁZAT FELÚJÍTÁSA ÉS FELÜLETKEZELÉSE | D34: ='Tételes költségvetés'!I317 -> 0 | E34: ='Tételes költségvetés'!J317 -> 0
B35: 30. | C35: 32. ERESZCSATORNA ÉS EJTŐCSŐ | D35: ='Tételes költségvetés'!I328 -> 0 | E35: ='Tételes költségvetés'!J328 -> 0
B36: 31. | C36: 33. TORNÁC PADLÓBURKOLAT JAVÍTÁS | D36: ='Tételes költségvetés'!I337 -> 0 | E36: ='Tételes költségvetés'!J337 -> 0
B37: 32. | C37: 34. TORNÁC FAOSZLOP JAVÍTÁS | D37: ='Tételes költségvetés'!I350 -> 0 | E37: ='Tételes költségvetés'!J350 -> 0
B38: 33. | C38: 35. TORNÁC FAANYAGVÉDELEM ÉS FELÜLETKEZELÉS | D38: ='Tételes költségvetés'!I360 -> 0 | E38: ='Tételes költségvetés'!J360 -> 0
B39: 34. | C39: 36. KERÍTÉS NEDVESSÉG ELLENI VÉDELEM KÉSZÍTÉSE ÉS FELÜLETI JAVÍTÁSA | D39: ='Tételes költségvetés'!I403 -> 0 | E39: ='Tételes költségvetés'!J403 -> 0
B40: 35. | C40: 37. TÁMFAL NEDVESSÉG ELLENI VÉDELEM KÉSZÍTÉSE ÉS FELÜLETI JAVÍTÁSA | D40: ='Tételes költségvetés'!I445 -> 0 | E40: ='Tételes költségvetés'!J445 -> 0
B41: 36. | C41: 38. HARANGOZÓLÉPCSŐ ALAPOZÁS ELLENŐRZÉS JAVÍTÁS | D41: ='Tételes költségvetés'!I452 -> 0 | E41: ='Tételes költségvetés'!J452 -> 0
B42: 37. | C42: 39. HARANGOZÓLÉPCSŐ FA TARTÓVÁZ ÉS TETŐSZERKEZET | D42: ='Tételes költségvetés'!I468 -> 0 | E42: ='Tételes költségvetés'!J468 -> 0
B43: 38. | C43: 40. HARANGOZÓLÉPCSŐ FEDÉS BÁDOGOZÁS | D43: ='Tételes költségvetés'!I480 -> 0 | E43: ='Tételes költségvetés'!J480 -> 0
B44: 39. | C44: 41. HARANGOZÓLÉPCSŐ ERESZCSATORNA ÉS EJTŐCSŐ | D44: ='Tételes költségvetés'!I485 -> 0 | E44: ='Tételes költségvetés'!J485 -> 0
B45: 40. | C45: 42. HARANGOZÓLÉPCSŐ DESZKABURKOLAT JAVÍTÁS | D45: ='Tételes költségvetés'!I495 -> 0 | E45: ='Tételes költségvetés'!J495 -> 0
B46: 41. | C46: 43. HARANGOZÓLÉPCSŐ DESZKABURKOLAT FAANYAGVÉDELEM | D46: ='Tételes költségvetés'!I500 -> 0 | E46: ='Tételes költségvetés'!J500 -> 0
B47: 42. | C47: 44. KERT | D47: ='Tételes költségvetés'!I525 -> 0 | E47: ='Tételes költségvetés'!J525 -> 0
B48: 43. | C48: 45. GÉPÉSZET | D48: ='Tételes költségvetés'!I570 -> 0 | E48: ='Tételes költségvetés'!J570 -> 0
C49: Nettó anyag és díj összesen : | D49: =SUM(D6:D48) -> 0 | E49: =SUM(E6:E48) -> 0
C50: Nettó anyag + díj összesen : | D50: =D49+E49 -> 0
C51: ÁFA 27 % | D51: =D50*0.27 -> 0
C52: Bruttó anyag + díj összesen : | D52: =ROUND(SUM(D50:D51),0) -> 0

Sheet Tételes költségvetés
B2: TÉTELES TERVEZŐI KÖLTSÉGVETÉS
B3: =Összesítő!B3:E3 -> SZENTENDRE NÉPMŰVÉSZETEK HÁZA KIVITELEZÉSI MUNKÁIHOZ
B5: Ssz. | C5: Tételszám | D5: Tétel szövege | E5: Menny. | F5: Egység | G5: Anyag egységár | H5: Díj egységár | I5: Anyag összesen | J5: Díj összesen
B7: 1. FELVONULÁSI LÉTESÍTMÉNYEK
B8: 1. | C8: 12-004-6 | D8: Vízhálózat kiépítési költsége és Vízdíj, építés ideje alatt | E8: 1 | F8: klt | G8: 0 | H8: 0 | I8: =ROUND(E8*G8, 0) -> 0 | J8: =ROUND(E8*H8, 0) -> 0
B9: 2. | C9: 12-005-8.2 | D9: Felvonulási csatlakozóhely kiépítése főkapcsolóval és felhasznált elektromos energia költsége az építés ideje alatt | E9: 1 | F9: klt | G9: 0 | H9: 0 | I9: =ROUND(E9*G9, 0) -> 0 | J9: =ROUND(E9*H9, 0) -> 0
B10: 3. | C10: 12-011-1.1-0025002 | D10: Mobil WC bérleti díj elszámolása, szállítással, heti karbantartással | E10: 1 | F10: klt | G10: 0 | H10: 0 | I10: =ROUND(E10*G10, 0) -> 0 | J10: =ROUND(E10*H10, 0) -> 0
B11: 4. | C11: 12-012-1.1.1-0025002 | D11: Konténer bérleti díj elszámolása, raktár konténer, 10,00 m2 alapterületig Raktár konténer, 10,00 m2-ig | E11: 1 | F11: klt | G11: 0 | H11: 0 | I11: =ROUND(E11*G11, 0) -> 0 | J11: =ROUND(E11*H11, 0) -> 0
B12: 5. | C12: 12-021-1.1-0137471 | D12: Ideiglenes kerítés, mobil kerítés elhelyezése (tartozékok külön tételben) DIRICKX M 300 mobilkerítés elem rögzítő bilinccsel, szemméret: 100 x 250 mm, szélesség: 3500 mm, magasság: 2000 mm | E12: 21 | F12: m | G12: 0 | H12: 0 | I12: =ROUND(E12*G12, 0) -> 0 | J12: =ROUND(E12*H12, 0) -> 0
B13: 6. | C13: 12-021-1.2-0137471 | D13: Ideiglenes kerítés, mobil kerítéskapu elhelyezése (tartozékok külön tételben) DIRICKX M 300 mobilkerítés elem rögzítő bilinccsel, szemméret: 100 x 250 mm, szélesség: 3500 mm, magasság: 2000 mm | E13: 1 | F13: db | G13: 0 | H13: 0 | I13: =ROUND(E13*G13, 0) -> 0 | J13: =ROUND(E13*H13, 0) -> 0
B14: 7. | C14: 12-021-1.7.1-0137473 | D14: Ideiglenes kerítés, kiegészítő elemek, mobil kerítés tartozékainak beépítése DIRICKX műanyag (gumi) talp M 300 elemhez , méret: 0,68x0,25x0,15 m, magasság: 2,00 m | E14: 8 | F14: db | G14: 0 | H14: 0 | I14: =ROUND(E14*G14, 0) -> 0 | J14: =ROUND(E14*H14, 0) -> 0
B15: 8. | C15: K | D15: Építési tábla költsége | E15: 1 | F15: klt | G15: 0 | H15: 0 | I15: =ROUND(E15*G15, 0) -> 0 | J15: =ROUND(E15*H15, 0) -> 0
D16: MUNKANEM összesen : | I16: =ROUND(SUM(I8:I15),0) -> 0 | J16: =ROUND(SUM(J8:J15),0) -> 0
B19: 2. FELVONULÁSI LÉTESÍTMÉNYEK
B20: 1. | C20: 12-004-6 | D20: Vízhálózat kiépítési költsége és Vízdíj, építés ideje alatt | E20: 1 | F20: klt | G20: 0 | H20: 0 | I20: =ROUND(E20*G20, 0) -> 0 | J20: =ROUND(E20*H20, 0) -> 0
B21: 2. | C21: 12-005-8.2 | D21: Felvonulási csatlakozóhely kiépítése főkapcsolóval és felhasznált elektromos energia költsége az építés ideje alatt | E21: 1 | F21: klt | G21: 0 | H21: 0 | I21: =ROUND(E21*G21, 0) -> 0 | J21: =ROUND(E21*H21, 0) -> 0
B22: 3. | C22: 12-011-1.1-0025002 | D22: Mobil WC bérleti díj elszámolása, szállítással, heti karbantartással | E22: 1 | F22: klt | G22: 0 | H22: 0 | I22: =ROUND(E22*G22, 0) -> 0 | J22: =ROUND(E22*H22, 0) -> 0
B23: 4. | C23: 12-012-1.1.1-0025002 | D23: Konténer bérleti díj elszámolása, raktár konténer, 10,00 m2 alapterületig Raktár konténer, 10,00 m2-ig | E23: 1 | F23: klt | G23: 0 | H23: 0 | I23: =ROUND(E23*G23, 0) -> 0 | J23: =ROUND(E23*H23, 0) -> 0
B24: 5. | C24: 12-021-1.1-0137471 | D24: Ideiglenes kerítés, mobil kerítés elhelyezése (tartozékok külön tételben) DIRICKX M 300 mobilkerítés elem rögzítő bilinccsel, szemméret: 100 x 250 mm, szélesség: 3500 mm, magasság: 2000 mm | E24: 21 | F24: m | G24: 0 | H24: 0 | I24: =ROUND(E24*G24, 0) -> 0 | J24: =ROUND(E24*H24, 0) -> 0
B25: 6. | C25: 12-021-1.2-0137471 | D25: Ideiglenes kerítés, mobil kerítéskapu elhelyezése (tartozékok külön tételben) DIRICKX M 300 mobilkerítés elem rögzítő bilinccsel, szemméret: 100 x 250 mm, szélesség: 3500 mm, magasság: 2000 mm | E25: 1 | F25: db | G25: 0 | H25: 0 | I25: =ROUND(E25*G25, 0) -> 0 | J25: =ROUND(E25*H25, 0) -> 0
B26: 7. | C26: 12-021-1.7.1-0137473 | D26: Ideiglenes kerítés, kiegészítő elemek, mobil kerítés tartozékainak beépítése DIRICKX műanyag (gumi) talp M 300 elemhez , méret: 0,68x0,25x0,15 m, magasság: 2,00 m | E26: 8 | F26: db | G26: 0 | H26: 0 | I26: =ROUND(E26*G26, 0) -> 0 | J26: =ROUND(E26*H26, 0) -> 0
B27: 8. | C27: K | D27: Építési tábla költsége | E27: 1 | F27: klt | G27: 0 | H27: 0 | I27: =ROUND(E27*G27, 0) -> 0 | J27: =ROUND(E27*H27, 0) -> 0
D28: MUNKANEM összesen : | I28: =ROUND(SUM(I20:I27),0) -> 0 | J28: =ROUND(SUM(J20:J27),0) -> 0
B31: 3. KÖLTSÉGTÉRÍTÉSEK
B32: 1. | C32: 19-010-1.11.4 | D32: Általános teendők megvalósulás szakaszában, behajtási engedély díja, | E32: 1 | F32: klt | G32: 0 | H32: 0 | I32: =ROUND(E32*G32, 0) -> 0 | J32: =ROUND(E32*H32, 0) -> 0
B33: 2. | C33: 19-010-1.1.4.1 | D33: Általános teendők tervezési és előkészítési szakaszban, területhasználati díjak, közterületek | E33: 45.88 | F33: m2 | G33: 0 | H33: 0 | I33: =ROUND(E33*G33, 0) -> 0 | J33: =ROUND(E33*H33, 0) -> 0
B34: 3. | C34: 19-010-1.11.1.1 | D34: Általános teendők megvalósulás szakaszában, ellenőrző mérések, épületek geodéziai felmérése - statikai szakvélemény szerint | E34: 1 | F34: klt | G34: 0 | H34: 0 | I34: =ROUND(E34*G34, 0) -> 0 | J34: =ROUND(E34*H34, 0) -> 0
B35: 4. | C35: 19-090-1 | D35: Építmények átadás előtti utolsó takarítása (pipere) a nettó m2-re vetítve | E35: 92.5 | F35: m2 | G35: 0 | H35: 0 | I35: =ROUND(E35*G35, 0) -> 0 | J35: =ROUND(E35*H35, 0) -> 0
B36: 5. | C36: 15-012-6.2 | D36: Homlokzati csőállvány állítása állványcsőből mint munkaállvány, szintenkénti pallóterítéssel, korláttal, lábdeszkával, kétlábas, 0,60-0,90 m padlószélességgel, munkapadló távolság 2,00 m, 2,00 kN/m2 terhelhetőséggel, állványépítés MSZ és alkalmazástechnikai kézikönyv szerint | E36: 16.99 | F36: m2 | G36: 0 | H36: 0 | I36: =ROUND(E36*G36, 0) -> 0 | J36: =ROUND(E36*H36, 0) -> 0
B37: 6. | C37: 15-012-25.1 | D37: Védőfüggöny szerelése állványszerkezetre, műanyag hálóból | E37: 16.99 | F37: m2 | G37: 0 | H37: 0 | I37: =ROUND(E37*G37, 0) -> 0 | J37: =ROUND(E37*H37, 0) -> 0
B38: 7. | C38: 15-012-33.1 | D38: Bakállvány készítése pallóterítéssel, vasbakból, 2,00 kN/m˛ terhelhetőséggel | E38: 31.76 | F38: m2 | G38: 0 | H38: 0 | I38: =ROUND(E38*G38, 0) -> 0 | J38: =ROUND(E38*H38, 0) -> 0
D39: MUNKANEM összesen : | I39: =ROUND(SUM(I32:I38),0) -> 0 | J39: =ROUND(SUM(J32:J38),0) -> 0
B42: 4. KÖLTSÉGTÉRÍTÉSEK
B43: 1. | C43: 19-010-1.11.4 | D43: Általános teendők megvalósulás szakaszában, behajtási engedély díja, | E43: 1 | F43: klt | G43: 0 | H43: 0 | I43: =ROUND(E43*G43, 0) -> 0 | J43: =ROUND(E43*H43, 0) -> 0
B44: 2. | C44: 19-010-1.1.4.1 | D44: Általános teendők tervezési és előkészítési szakaszban, területhasználati díjak, közterületek | E44: 45.88 | F44: m2 | G44: 0 | H44: 0 | I44: =ROUND(E44*G44, 0) -> 0 | J44: =ROUND(E44*H44, 0) -> 0
B45: 3. | C45: 19-090-1 | D45: Építmények átadás előtti utolsó takarítása (pipere) a nettó m2-re vetítve | E45: 92.5 | F45: m2 | G45: 0 | H45: 0 | I45: =ROUND(E45*G45, 0) -> 0 | J45: =ROUND(E45*H45, 0) -> 0
B46: 4. | C46: K | D46: Festés előtti padlóburkolat védelme ( pl : hullámpapírral ) | E46: 92.5 | F46: m2 | G46: 0 | H46: 0 | I46: =ROUND(E46*G46, 0) -> 0 | J46: =ROUND(E46*H46, 0) -> 0
B47: 5. | C47: K | D47: Festés előtti nyílászárók védelme | E47: 1 | F47: klt | G47: 0 | H47: 0 | I47: =ROUND(E47*G47, 0) -> 0 | J47: =ROUND(E47*H47, 0) -> 0
B48: 6. | C48: 15-012-6.2 | D48: Homlokzati csőállvány állítása állványcsőből mint munkaállvány, szintenkénti pallóterítéssel, korláttal, lábdeszkával, kétlábas, 0,60-0,90 m padlószélességgel, munkapadló távolság 2,00 m, 2,00 kN/m2 terhelhetőséggel, állványépítés MSZ és alkalmazástechnikai kézikönyv szerint | E48: 89.78 | F48: m2 | G48: 0 | H48: 0 | I48: =ROUND(E48*G48, 0) -> 0 | J48: =ROUND(E48*H48, 0) -> 0
B49: 7. | C49: 15-012-25.1 | D49: Védőfüggöny szerelése állványszerkezetre, műanyag hálóból | E49: 89.78 | F49: m2 | G49: 0 | H49: 0 | I49: =ROUND(E49*G49, 0) -> 0 | J49: =ROUND(E49*H49, 0) -> 0
B50: 8. | C50: 15-012-33.1 | D50: Bakállvány készítése pallóterítéssel, vasbakból, 2,00 kN/m˛ terhelhetőséggel | E50: 56.95 | F50: m2 | G50: 0 | H50: 0 | I50: =ROUND(E50*G50, 0) -> 0 | J50: =ROUND(E50*H50, 0) -> 0
D51: MUNKANEM összesen : | I51: =ROUND(SUM(I43:I50),0) -> 0 | J51: =ROUND(SUM(J43:J50),0) -> 0
B54: 7. BONTÁS ÉS SITT ELSZÁLLÍTÁS
B55: A BONTÁSI MUNKÁK AZ ADOTT MUNKACSOPORTNÁL VANNAK RÉSZLETEZVE !
B56: 1. | C56: 21-011-11.8 | D56: Építési törmelék konténeres elszállítása, lerakása, lerakóhelyi díjjal | E56: 36.2 | F56: m3 | G56: 0 | H56: 0 | I56: =ROUND(E56*G56, 0) -> 0 | J56: =ROUND(E56*H56, 0) -> 0
B57: 2. | C57: 21-011-12 | D57: Munkahelyi depóniából építési törmelék konténerbe rakása, kézi erővel, önálló munka esetén elszámolva, konténer szállítás nélkül | E57: 36.2 | F57: m3 | G57: 0 | H57: 0 | I57: =ROUND(E57*G57, 0) -> 0 | J57: =ROUND(E57*H57, 0) -> 0
B58: 3. | C58: 35-000-10 | D58: Kibontott fertőzött faanyag szóródásmentesen összegyűjtése, a helyszínen elégetése vagy veszélyes hulladékként történő elszállítása | E58: 1 | F58: klt | G58: 0 | H58: 0 | I58: =ROUND(E58*G58, 0) -> 0 | J58: =ROUND(E58*H58, 0) -> 0
D59: MUNKANEM összesen : | I59: =ROUND(SUM(I56:I58),0) -> 0 | J59: =ROUND(SUM(J56:J58),0) -> 0
B62: 8. BONTÁS ÉS SITT ELSZÁLLÍTÁS
B63: A BONTÁSI MUNKÁK AZ ADOTT MUNKACSOPORTNÁL VANNAK RÉSZLETEZVE !
B64: 1. | C64: 21-011-11.8 | D64: Építési törmelék konténeres elszállítása, lerakása, lerakóhelyi díjjal | E64: 85.6 | F64: m3 | G64: 0 | H64: 0 | I64: =ROUND(E64*G64, 0) -> 0 | J64: =ROUND(E64*H64, 0) -> 0
B65: 2. | C65: 21-011-12 | D65: Munkahelyi depóniából építési törmelék konténerbe rakása, kézi erővel, önálló munka esetén elszámolva, konténer szállítás nélkül | E65: 85.6 | F65: m3 | G65: 0 | H65: 0 | I65: =ROUND(E65*G65, 0) -> 0 | J65: =ROUND(E65*H65, 0) -> 0
B66: 3. | C66: 35-000-10 | D66: Kibontott fertőzött faanyag szóródásmentesen összegyűjtése, a helyszínen elégetése vagy veszélyes hulladékként történő elszállítása | E66: 1 | F66: klt | G66: 0 | H66: 0 | I66: =ROUND(E66*G66, 0) -> 0 | J66: =ROUND(E66*H66, 0) -> 0
D67: MUNKANEM összesen : | I67: =ROUND(SUM(I64:I66),0) -> 0 | J67: =ROUND(SUM(J64:J66),0) -> 0
B70: 9. PINCE MEGERŐSÍTÉSEK
B71: 1. | C71: K | D71: Épületszerkezeti feltárások készítése a bontási munkálatok során - statikai szakvélemény és építész műleírás szerint szerint | E71: 1 | F71: klt | G71: 0 | H71: 0 | I71: =ROUND(E71*G71, 0) -> 0 | J71: =ROUND(E71*H71, 0) -> 0
B72: 2. | C72: 35-000-1.1 | D72: Pinceszinti 11. jelű fa oszlop csonkolása a korhadt szakaszon kb 50cm magasságig | E72: 2 | F72: db | G72: 0 | H72: 0 | I72: =ROUND(E72*G72, 0) -> 0 | J72: =ROUND(E72*H72, 0) -> 0
B73: 3. | C73: 42-090-9.8.1-0212202 | D73: Kőfalba épített kivágott faoszlop helyének visszafalazása a meglévő falazat kőanyagával azonos kőből | E73: 2 | F73: db | G73: 0 | H73: 0 | I73: =ROUND(E73*G73, 0) -> 0 | J73: =ROUND(E73*H73, 0) -> 0
B74: 4. | C74: K | D74: Csonkolt faoszlop végek vízfelvételének megakadályozása kent szigetelés készítésével a felüregben | E74: 2 | F74: db | G74: 0 | H74: 0 | I74: =ROUND(E74*G74, 0) -> 0 | J74: =ROUND(E74*H74, 0) -> 0
B75: 5. | C75: 35-011-1.1.1-0251505 | D75: Csonkolt fa oszlopok mélyvédelme furatok készítésével és háromszori feltöltésével Anti fungi plusz 50-70ml/dm3 anyaggal -faanyagvédelmi szakvélemény szerint | E75: 2 | F75: db | G75: 0 | H75: 0 | I75: =ROUND(E75*G75, 0) -> 0 | J75: =ROUND(E75*H75, 0) -> 0
D76: MUNKANEM összesen : | I76: =ROUND(SUM(I71:I75),0) -> 0 | J76: =ROUND(SUM(J71:J75),0) -> 0
B79: 10. NEDVESSÉG ELLENI KÜLSŐ OLDALI VÉDELEM
B80: 1. | C80: 62-001-3.1 | D80: Kockakő burkolat bontása két sor szélességben, homokos kavicságyazattal (lábazat vakolat készítése miatt) | E80: 5.15 | F80: m | G80: 0 | H80: 0 | I80: =ROUND(E80*G80, 0) -> 0 | J80: =ROUND(E80*H80, 0) -> 0
B81: 2. | C81: 62-003-2.1-0210011 | D81: Kockakő burkolat készítése meglévő kövekből, földre /védőrétegre/ fektetve, bontott kőből, sérült elemek pótlásával, vízzáró cementhabarcs fugázással, 2%-os kifelé lejtésben, falcsatlakozásánál műgyantával tömítve | E81: 5.15 | F81: m | G81: 0 | H81: 0 | I81: =ROUND(E81*G81, 0) -> 0 | J81: =ROUND(E81*H81, 0) -> 0
B82: 3. | C82: 42-000-1.1.1 | D82: Faragott kő- és téglaburkolatok bontása, padlóburkolat, lapjára fektetett kisméretű vagy üreges padlástégla bontása kavicságyazattal (lábazat vakolat készítése miatt) - pincebejárat előtere | E82: 2.67 | F82: m | G82: 0 | H82: 0 | I82: =ROUND(E82*G82, 0) -> 0 | J82: =ROUND(E82*H82, 0) -> 0
B83: 4. | C83: 42-002-1.1.1.2-0110001 | D83: Padlóburkolat készítése előzőleg kibontott téglából, cementes mészhabarcsba fektetve, 8 cm vastag kavics szűrőréteggel, homokba ágyazva, a sérült elemek pótlásával, cementes mészhabarcs hézagkiöntéssel | E83: 2.67 | F83: m | G83: 0 | H83: 0 | I83: =ROUND(E83*G83, 0) -> 0 | J83: =ROUND(E83*H83, 0) -> 0
B84: 5. | C84: 36-000-1.3 | D84: Vakolat leverése homlokzatról 2,5 cm vastagságig | E84: =6.74+2.68 -> 9.42 | F84: m2 | G84: 0 | H84: 0 | I84: =ROUND(E84*G84, 0) -> 0 | J84: =ROUND(E84*H84, 0) -> 0
B85: 6. | C85: 36-000-1.4 | D85: Vakolat leverése lábazati cementvakolat 5 cm vastagságig | E85: =4.23+1.02 -> 5.25 | F85: m2 | G85: 0 | H85: 0 | I85: =ROUND(E85*G85, 0) -> 0 | J85: =ROUND(E85*H85, 0) -> 0
B86: 7. | C86: 36-000-18 | D86: Falazat és falburkolat külső és belső oldali fugáinak kikaparása 2 cm mélységben | E86: =8.4+2.57+2.68+1.02+39.62 -> 54.29 | F86: m2 | G86: 0 | H86: 0 | I86: =ROUND(E86*G86, 0) -> 0 | J86: =ROUND(E86*H86, 0) -> 0
B87: 8. | C87: K | D87: Falazat és falburkolat külső és belső oldali újrafugázása 2 cm mélységben javított mészhabarccsal | E87: =8.4+2.57+2.68+1.02+39.62 -> 54.29 | F87: m2 | G87: 0 | H87: 0 | I87: =ROUND(E87*G87, 0) -> 0 | J87: =ROUND(E87*H87, 0) -> 0
B88: 9. | C88: 36-005-3.1-0415525 | D88: Vakolat simítása, előkevert gyári szárazhabarcsból, vékonyvakolatok, homlokzatfestékek, belső festékek alá, 4 mm vastagságig kézi felhordással (a gyártó által megadott kg/m2/mm rétegvastagsággal) pl. KEIM Sanierputz Fein | E88: 14.67 | F88: m2 | G88: 0 | H88: 0 | I88: =ROUND(E88*G88, 0) -> 0 | J88: =ROUND(E88*H88, 0) -> 0
B89: 10. | C89: 36-012-1.4-0418529 | D89: Vízzáró, légáteresztő vékony- vagy javítóvakolat készítése kézi felhordással, szárazhabarcsból, vízszintes vagy függőleges felületen, pl. KEIM Porosan- Trass-Zementputz és Trass-Sanierputz-NP és KEIM Porosan Dichtungsschlamme (Lábazat) | E89: =2.57+1.02 -> 3.59 | F89: m2 | G89: 0 | H89: 0 | I89: =ROUND(E89*G89, 0) -> 0 | J89: =ROUND(E89*H89, 0) -> 0
B90: 11. | C90: 36-012-2.2.1.1-0148696 | D90: Szellőző, falszárító felújító vakolat készítése, erős (magas) só és nedvességtartalom esetén WTA rendszerben, kézi felhordással, szárazhabarcsból, felületelőkészítéssel (alapozó, előfröcskölő, gúz), alsó, felső vakolatréteggel, összesen 3 cm vastagságban. pl. KEIM Porosan-Ausgleichtputz-NP alapvakolat és Trass-Sanierputz-NP kiegyenlítővakolat | E90: =8.4+2.68 -> 11.08 | F90: m2 | G90: 0 | H90: 0 | I90: =ROUND(E90*G90, 0) -> 0 | J90: =ROUND(E90*H90, 0) -> 0
B91: 12. | C91: 47-010-2.2.1-0159378 | D91: Enyhén nedvszívó vagy sima falfelületek tapadásközvetítő alapozása, szilikát káli-vízüveg alapú kvarchomok töltésű alapozóval, tagolt felületen pl: KEIM Contact-Plus | E91: 14.67 | F91: m2 | G91: 0 | H91: 0 | I91: =ROUND(E91*G91, 0) -> 0 | J91: =ROUND(E91*H91, 0) -> 0
B92: 13. | C92: 47-013-3.1.1.1.1.1-0159376 | D92: Szilikát festések, káli-vízüveg kötőanyagú vízbázisú, magas vízgőz áteresztő képességű homlokzatfestés, új vagy régi lekapart, előkészített alapfelületen, vakolaton, két rétegben, egy vagy több színben, tagolt sima felületen szilikát homlokzatfesték, színes (pl: KEIM Granital) Homlokzatfestés színei kivitelezés megkezdése előtt mintafelület festéssel véglegesítendők! | E92: 14.67 | F92: m2 | G92: 0 | H92: 0 | I92: =ROUND(E92*G92, 0) -> 0 | J92: =ROUND(E92*H92, 0) -> 0
D93: MUNKANEM összesen : | I93: =ROUND(SUM(I80:I92),0) -> 0 | J93: =ROUND(SUM(J80:J92),0) -> 0
B96: 11. PINCE FELETTI FÖDÉM FELTÁRÁS ÉS PADLÓRÉTEGREND ELTÁVOLÍTÁSA
B97: 1. | C97: 42-000-1.1.1 | D97: Faragott kő- és téglaburkolatok bontása, padlóburkolat, lapjára fektetett kisméretű vagy üreges padlástégla - óvatos bontás későbbi felhasználásra alkalmas módon | E97: 30.3 | F97: m2 | G97: 0 | H97: 0 | I97: =ROUND(E97*G97, 0) -> 0 | J97: =ROUND(E97*H97, 0) -> 0
B98: 2. | C98: K | D98: Bontott téglaburkolat deponálása | E98: 30.3 | F98: m2 | G98: 0 | H98: 0 | I98: =ROUND(E98*G98, 0) -> 0 | J98: =ROUND(E98*H98, 0) -> 0
B99: 3. | C99: 31-000-12.3 | D99: Födémfeltöltések bontása, nehéz feltöltések bontása homokból, kavicsból, testsűrűség 1500 kg/mł felett | E99: 6.06 | F99: m3 | G99: 0 | H99: 0 | I99: =ROUND(E99*G99, 0) -> 0 | J99: =ROUND(E99*H99, 0) -> 0
B100: 4. | C100: 48-000-1.1 | D100: Teljes felületen hegesztett, olvasztott vagy ragasztott bitumenes lemez szigetelés, páratechnikai vagy párazáró réteg bontása, egy réteg lemez esetén, vízszintes felületről | E100: 30.3 | F100: m2 | G100: 0 | H100: 0 | I100: =ROUND(E100*G100, 0) -> 0 | J100: =ROUND(E100*H100, 0) -> 0
D101: MUNKANEM összesen : | I101: =ROUND(SUM(I97:I100),0) -> 0 | J101: =ROUND(SUM(J97:J100),0) -> 0
B104: 12. PINCE SZERKEZETI ELEMEK
B105: 1. | C105: K | D105: Alkalmazott faanyag szerkezeti károsodásainak feltárása - építész műleírás szerint szerint | E105: 1 | F105: klt | G105: 0 | H105: 0 | I105: =ROUND(E105*G105, 0) -> 0 | J105: =ROUND(E105*H105, 0) -> 0
B106: 2. | C106: 35-080-2.1 | D106: Födémdeszkázás cseréje, 24 mm vastag felső deszkázás cseréje a sérült részeken | E106: 12 | F106: e.i.m2 | G106: 0 | H106: 0 | I106: =ROUND(E106*G106, 0) -> 0 | J106: =ROUND(E106*H106, 0) -> 0
B107: 3. | C107: 35-004-1.3 | D107: Deszkázás készítése meglévő deszkafödém tetejére, 3cm vtg deszkából, eltolt takarással tartógerendázatra feltámasztva, gerendák felett toldva | E107: 30.3 | F107: m2 | G107: 0 | H107: 0 | I107: =ROUND(E107*G107, 0) -> 0 | J107: =ROUND(E107*H107, 0) -> 0
B108: 4. | C108: K | D108: Fa födémek, áthidalók, gerendák, oszlopok és deszkázat felületelőkészítése védőkezeléshez | E108: 97.56 | F108: m2 | G108: 0 | H108: 0 | I108: =ROUND(E108*G108, 0) -> 0 | J108: =ROUND(E108*H108, 0) -> 0
B109: 5. | C109: 42-002-1.1.1.1-0110001 | D109: Padlóburkolat készítése előzőleg kibontott téglából, a sérült elemek pótlásával, változó magasságú homokágyazattal | E109: 30.3 | F109: m2 | G109: 0 | H109: 0 | I109: =ROUND(E109*G109, 0) -> 0 | J109: =ROUND(E109*H109, 0) -> 0
B110: 6. | C110: 42-091-12.1-0213707 | D110: Tégla felületek tisztítása Remmers Alkutex szennyeződés eltávolítóval | E110: 30.3 | F110: m2 | G110: 0 | H110: 0 | I110: =ROUND(E110*G110, 0) -> 0 | J110: =ROUND(E110*H110, 0) -> 0
B111: 7. | C111: 47-013-31.6.1.3-0213727 | D111: Impregnálás (hidrofóbizáló anyaggal), oldószerben szegény hidrofóbizáló réteg felhordása, kis pórusú durva felületű vagy tagolt tégla esetén Remmers Funcosil SNL impregnálóval | E111: 30.3 | F111: m2 | G111: 0 | H111: 0 | I111: =ROUND(E111*G111, 0) -> 0 | J111: =ROUND(E111*H111, 0) -> 0
D112: MUNKANEM összesen : | I112: =ROUND(SUM(I105:I111),0) -> 0 | J112: =ROUND(SUM(J105:J111),0) -> 0
B115: 13. PINCE FAANYAGVÉDELEM
B116: 1. | C116: 35-011-1.1.1-0251505 | D116: Faanyag gomba és rovarkártevő elleni megelőző védelme meglévő faanyagon mázolási technológiával felhordott anyaggal. Javasolt védőszer: Adolit BQ 20 200ml/m2 | E116: 97.56 | F116: m2 | G116: 0 | H116: 0 | I116: =ROUND(E116*G116, 0) -> 0 | J116: =ROUND(E116*H116, 0) -> 0
B117: 2. | C117: 35-011-1.1.2-0251505 | D117: Faanyag gomba és rovarkártevő elleni megelőző védelme új faanyagon áztatásos technológiával felhordott anyaggal. Javasolt védőszer: Adolit BQ 20 200ml/m2 | E117: 84.6 | F117: m2 | G117: 0 | H117: 0 | I117: =ROUND(E117*G117, 0) -> 0 | J117: =ROUND(E117*H117, 0) -> 0
B118: 3. | C118: 35-011-1.2.1-0251506 | D118: Faanyag gomba és rovarkártevő elleni megszűntető védelme meglévő faanyagon mázolási technológiával felhordott anyaggal. Fallal érintkező fafelületek kezelésére Javasolt védőszer: Anti fungi plusz 200ml/m2 | E118: 14 | F118: m2 | G118: 0 | H118: 0 | I118: =ROUND(E118*G118, 0) -> 0 | J118: =ROUND(E118*H118, 0) -> 0
D119: MUNKANEM összesen : | I119: =ROUND(SUM(I116:I118),0) -> 0 | J119: =ROUND(SUM(J116:J118),0) -> 0
B122: 14. PINCE PADLÓ NEDVESSÉG ELLENI VÉDELME
B123: 1. | C123: 42-000-3.1.2 | D123: Fa-, hézagmentes műanyag- és szőnyegburkolatok bontása, fapadló burkolatok, hajópadló 22 mm vastag deszkából vagy rövid svéd padló | E123: 13.41 | F123: m2 | G123: 0 | H123: 0 | I123: =ROUND(E123*G123, 0) -> 0 | J123: =ROUND(E123*H123, 0) -> 0
B124: 2. | C124: 31-032-1.1.2 | D124: Felület-előkészítés meglévő cementkötésű aljzat tisztítása, laza vagy szennyezett felületrészek eltávolítása, 3 mm vastagságig, betoncsiszolóval - betonpadló és lépcsőfok | E124: 29.74 | F124: m2 | G124: 0 | H124: 0 | I124: =ROUND(E124*G124, 0) -> 0 | J124: =ROUND(E124*H124, 0) -> 0
B125: 3. | C125: 31-090-50417984 | D125: Beton és vasbeton szerkezetek felületi javítása előtti alapozó, korróziógátló vagy kötőréteg felhordása 1 rétegben SAKRET Rekocrete MKH korrózióvédő és tapadóhíd - betonpadló és lépcsőfok | E125: 29.74 | F125: m2 | G125: 0 | H125: 0 | I125: =ROUND(E125*G125, 0) -> 0 | J125: =ROUND(E125*H125, 0) -> 0
...
