Workbook

Sheet ELŐLAP
B10: TÉTELES TERVEZŐI KÖLTSÉGVETÉS
C15: KÉSZÜLT 2000 SZENTENDRE, RÁKÓCZ UTCA 1. SZÁM ALATTI
C16: SZENTENDRE NÉPMŰVÉSZETEK HÁZA KIVITELEZÉSI MUNKÁIHOZ
C38: ÉPÍTÉSZ TERVEZŐ: | D38: JASSÓ Építészműhely Kft.
D39: 2000 Szentendre, Aradi utca 10.
C41: MEGRENDELŐ: | D41: Szentendre Város Önkormányzata
D42: 2000 Szentendre, Városház tér 3.
C44: KÉSZÜLT : | D44: Budapest, 2018. március

Sheet Általános leírás
B2: ÁLTALÁNOS LEÍRÁS A KÖLTSÉGVETÉSHEZ
B3: =ELŐLAP!C15 -> KÉSZÜLT 2000 SZENTENDRE, RÁKÓCZ UTCA 1. SZÁM ALATTI
B4: =ELŐLAP!C16 -> SZENTENDRE NÉPMŰVÉSZETEK HÁZA KIVITELEZÉSI MUNKÁIHOZ
B6: A költségvetés a 2018.03.20-án kelt építészeti állagmegóvási tervhez készült.
B8: Jelen költségvetés csak az építészeti és tartószerkezeti, valamint a gépészeti munkákat tartalmazza, az elektromos munkák és az azokhoz tartozó szerelő kőműves munkák külön költségvetésben szerepelnek.
B10: Az egyes tételeknél és munkanemeknél, valamint a főösszesítőben szereplő képletek ellenőrizendők.
B12: A felsorolt anyagok csak építész javaslatok, azzal egyenértékű termékkel helyettesíthetők, azzal a kitétellel, hogy mindenben meg kell felelniük a vonatkozó műszaki leírásában szereplő arculati kialakításnak.
B13: A konkrét termék kiválasztása során a Tervezővel egyeztetni kell.
B15: Az alkalmazandó termékek ( pl : belső nyílászárók, lakatos- és üveg szerkezetek, burkolatok, stb ) csak bemutatott minta után építhetők be.
B17: A költségvetés együtt kezelendő a műszaki leírással ( anyagkiírás ), a tervekkel, konszignációkkal, a statikai és a faanyagvédelmi szakvéleménnyel.

Sheet Összesítő
B2: KÖLTSÉGVETÉS ÖSSZESÍTŐ
B3: ='Általános leírás'!B4 -> SZENTENDRE NÉPMŰVÉSZETEK HÁZA KIVITELEZÉSI MUNKÁIHOZ
B5: Ssz | C5: Munkanem megnevezése | D5: Anyag összege | E5: Díj összege
B6: 1. | C6: 1. FELVONULÁSI LÉTESÍTMÉNYEK | D6: ='Tételes költségvetés'!I16 -> 0 | E6: ='Tételes költségvetés'!J16 -> 0
B7: 2. | C7: 2. FELVONULÁSI LÉTESÍTMÉNYEK | D7: ='Tételes költségvetés'!I28 -> 0 | E7: ='Tételes költségvetés'!J28 -> 0
B8: 3. | C8: 3. KÖLTSÉGTÉRÍTÉSEK | D8: ='Tételes költségvetés'!I39 -> 0 | E8: ='Tételes költségvetés'!J39 -> 0
B9: 4. | C9: 4. KÖLTSÉGTÉRÍTÉSEK | D9: ='Tételes költségvetés'!I51 -> 0 | E9: ='Tételes költségvetés'!J51 -> 0
B10: 5. | C10: 7. BONTÁS ÉS SITT ELSZÁLLÍTÁS | D10: ='Tételes költségvetés'!I59 -> 0 | E10: ='Tételes költségvetés'!J59 -> 0
B11: 6. | C11: 8. BONTÁS ÉS SITT ELSZÁLLÍTÁS | D11: ='Tételes költségvetés'!I67 -> 0 | E11: ='Tételes költségvetés'!J67 -> 0
B12: 7. | C12: 9. PINCE MEGERŐSÍTÉSEK | D12: ='Tételes költségvetés'!I76 -> 0 | E12: ='Tételes költségvetés'!J76 -> 0
B13: 8. | C13: 10. NEDVESSÉG ELLENI KÜLSŐ OLDALI VÉDELEM | D13: ='Tételes költségvetés'!I93 -> 0 | E13: ='Tételes költségvetés'!J93 -> 0
B14: 9. | C14: 11. PINCE FELETTI FÖDÉM FELTÁRÁS ÉS PADLÓRÉTEGREND ELTÁVOLÍTÁSA | D14: ='Tételes költségvetés'!I101 -> 0 | E14: ='Tételes költségvetés'!J101 -> 0
B15: 10. | C15: 12. PINCE SZERKEZETI ELEMEK | D15: ='Tételes költségvetés'!I112 -> 0 | E15: ='Tételes költségvetés'!J112 -> 0
B16: 11. | C16: 13. PINCE FAANYAGVÉDELEM | D16: ='Tételes költségvetés'!I119 -> 0 | E16: ='Tételes költségvetés'!J119 -> 0
B17: 12. | C17: 14. PINCE PADLÓ NEDVESSÉG ELLENI VÉDELME | D17: ='Tételes költségvetés'!I129 -> 0 | E17: ='Tételes költségvetés'!J129 -> 0
B18: 13. | C18: 15. PINCE NYÍLÁSZÁRÓ JAVÍTÁS | D18: ='Tételes költségvetés'!I141 -> 0 | E18: ='Tételes költségvetés'!J141 -> 0
B19: 14. | C19: 16. FÖLDSZINTI NYÍLÁSKIVÁLTÁSOK ÉS SZERKEZETI ELEMEK MEGERŐSÍTÉSE | D19: ='Tételes költségvetés'!I149 -> 0 | E19: ='Tételes költségvetés'!J149 -> 0
B20: 15. | C20: 17. FÖLDSZINTI FAANYAGVÉDELEM | D20: ='Tételes költségvetés'!I154 -> 0 | E20: ='Tételes költségvetés'!J154 -> 0
B21: 16. | C21: 18. FÖLDSZINTI KÜLSŐ FELÜLETKÉPZÉS | D21: ='Tételes költségvetés'!I167 -> 0 | E21: ='Tételes költségvetés'!J167 -> 0
B22: 17. | C22: 19. FÖLDSZINTI BELSŐ FELÜLETKÉPZÉS | D22: ='Tételes költségvetés'!I177 -> 0 | E22: ='Tételes költségvetés'!J177 -> 0
B23: 18. | C23: 20. FÖLDSZINTI KÜLSŐ ÉS BELSŐ NEDVESSÉG ELLENI VÉDELEM | D23: ='Tételes költségvetés'!I190 -> 0 | E23: ='Tételes költségvetés'!J190 -> 0
B24: 19. | C24: 21. FÖLDSZINTI HOMLOKZAT JAVÍTÁS | D24: ='Tételes költségvetés'!I196 -> 0 | E24: ='Tételes költségvetés'!J196 -> 0
B25: 20. | C25: 22. FÖLDSZINTI NYÍLÁSZÁRÓ JAVÍTÁS | D25: ='Tételes költségvetés'!I217 -> 0 | E25: ='Tételes költségvetés'!J217 -> 0
B26: 21. | C26: 23. FÖLDSZINTI PADLÓ RÉTEGREND NEDVESSÉG ELLENI VÉDELME | D26: ='Tételes költségvetés'!I222 -> 0 | E26: ='Tételes költségvetés'!J222 -> 0
B27: 22. | C27: 24. FÖLDSZINTI PADLÓBURKOLAT VIZSGÁLAT ÉS SÉRÜLT RÉSZEK CSERÉJE | D27: ='Tételes költségvetés'!I230 -> 0 | E27: ='Tételes költségvetés'!J230 -> 0
B28: 23. | C28: 25. FÖLDSZINT FELETTI FÖDÉM FELTÁRÁS | D28: ='Tételes költségvetés'!I243 -> 0 | E28: ='Tételes költségvetés'!J243 -> 0
B29: 24. | C29: 26. FÖLDSZINT FELETTI FÖDÉM SZERKEZETI ELEMEK | D29: ='Tételes költségvetés'!I254 -> 0 | E29: ='Tételes költségvetés'!J254 -> 0
B30: 25. | C30: 27. FÖLDSZINT FAANYAGVÉDELEM | D30: ='Tételes költségvetés'!I261 -> 0 | E30: ='Tételes költségvetés'!J261 -> 0
B31: 26. | C31: 28. FEDÉLSZÉK JAVÍTÁS | D31: ='Tételes költségvetés'!I282 -> 0 | E31: ='Tételes költségvetés'!J282 -> 0
B32: 27. | C32: 29. HÉJALÁS ÉS BÁDOGOZÁS | D32: ='Tételes költségvetés'!I303 -> 0 | E32: ='Tételes költségvetés'!J303 -> 0
B33: 28. | C33: 30. AGYAGTAPASZTÁS | D33: ='Tételes költségvetés'!I308 -> 0 | E33: ='Tételes költségvetés'!J308 -> 0
B34: 29. | C34: 31. DESZKÁZAT FELÚJÍTÁSA ÉS FELÜLETKEZELÉSE | D34: ='Tételes költségvetés'!I317 -> 0 | E34: ='Tételes költségvetés'!J317 -> 0
B35: 30. | C35: 32. ERESZCSATORNA ÉS EJTŐCSŐ | D35: ='Tételes költségvetés'!I328 -> 0 | E35: ='Tételes költségvetés'!J328 -> 0
B36: 31. | C36: 33. TORNÁC PADLÓBURKOLAT JAVÍTÁS | D36: ='Tételes költségvetés'!I337 -> 0 | E36: ='Tételes költségvetés'!J337 -> 0
B37: 32. | C37: 34. TORNÁC FAOSZLOP JAVÍTÁS | D37: ='Tételes költségvetés'!I350 -> 0 | E37: ='Tételes költségvetés'!J350 -> 0
B38: 33. | C38: 35. TORNÁC FAANYAGVÉDELEM ÉS FELÜLETKEZELÉS | D38: ='Tételes költségvetés'!I360 -> 0 | E38: ='Tételes költségvetés'!J360 -> 0
B39: 34. | C39: 36. KERÍTÉS NEDVESSÉG ELLENI VÉDELEM KÉSZÍTÉSE ÉS FELÜLETI JAVÍTÁSA | D39: ='Tételes költségvetés'!I403 -> 0 | E39: ='Tételes költségvetés'!J403 -> 0
B40: 35. | C40: 37. TÁMFAL NEDVESSÉG ELLENI VÉDELEM KÉSZÍTÉSE ÉS FELÜLETI JAVÍTÁSA | D40: ='Tételes költségvetés'!I445 -> 0 | E40: ='Tételes költségvetés'!J445 -> 0
B41: 36. | C41: 38. HARANGOZÓLÉPCSŐ ALAPOZÁS ELLENŐRZÉS JAVÍTÁS | D41: ='Tételes költségvetés'!I452 -> 0 | E41: ='Tételes költségvetés'!J452 -> 0
B42: 37. | C42: 39. HARANGOZÓLÉPCSŐ FA TARTÓVÁZ ÉS TETŐSZERKEZET | D42: ='Tételes költségvetés'!I468 -> 0 | E42: ='Tételes költségvetés'!J468 -> 0
...

Sheet Tételes költségvetés
B2: TÉTELES TERVEZŐI KÖLTSÉGVETÉS
B3: =Összesítő!B3:E3 -> SZENTENDRE NÉPMŰVÉSZETEK HÁZA KIVITELEZÉSI MUNKÁIHOZ
B5: Ssz. | C5: Tételszám | D5: Tétel szövege | E5: Menny. | F5: Egység | G5: Anyag egységár | H5: Díj egységár | I5: Anyag összesen | J5: Díj összesen
B7: 1. FELVONULÁSI LÉTESÍTMÉNYEK
B8: 1. | C8: 12-004-6 | D8: Vízhálózat kiépítési költsége és Vízdíj, építés ideje alatt | E8: 1 | F8: klt | G8: 0 | H8: 0 | I8: =ROUND(E8*G8, 0) -> 0 | J8: =ROUND(E8*H8, 0) -> 0
B9: 2. | C9: 12-005-8.2 | D9: Felvonulási csatlakozóhely kiépítése főkapcsolóval és felhasznált elektromos energia költsége az építés ideje alatt | E9: 1 | F9: klt | G9: 0 | H9: 0 | I9: =ROUND(E9*G9, 0) -> 0 | J9: =ROUND(E9*H9, 0) -> 0
B10: 3. | C10: 12-011-1.1-0025002 | D10: Mobil WC bérleti díj elszámolása, szállítással, heti karbantartással | E10: 1 | F10: klt | G10: 0 | H10: 0 | I10: =ROUND(E10*G10, 0) -> 0 | J10: =ROUND(E10*H10, 0) -> 0
B11: 4. | C11: 12-012-1.1.1-0025002 | D11: Konténer bérleti díj elszámolása, raktár konténer, 10,00 m2 alapterületig Raktár konténer, 10,00 m2-ig | E11: 1 | F11: klt | G11: 0 | H11: 0 | I11: =ROUND(E11*G11, 0) -> 0 | J11: =ROUND(E11*H11, 0) -> 0
B12: 5. | C12: 12-021-1.1-0137471 | D12: Ideiglenes kerítés, mobil kerítés elhelyezése (tartozékok külön tételben) DIRICKX M 300 mobilkerítés elem rögzítő bilinccsel, szemméret: 100 x 250 mm, szélesség: 3500 mm, magasság: 2000 mm | E12: 21 | F12: m | G12: 0 | H12: 0 | I12: =ROUND(E12*G12, 0) -> 0 | J12: =ROUND(E12*H12, 0) -> 0
B13: 6. | C13: 12-021-1.2-0137471 | D13: Ideiglenes kerítés, mobil kerítéskapu elhelyezése (tartozékok külön tételben) DIRICKX M 300 mobilkerítés elem rögzítő bilinccsel, szemméret: 100 x 250 mm, szélesség: 3500 mm, magasság: 2000 mm | E13: 1 | F13: db | G13: 0 | H13: 0 | I13: =ROUND(E13*G13, 0) -> 0 | J13: =ROUND(E13*H13, 0) -> 0
B14: 7. | C14: 12-021-1.7.1-0137473 | D14: Ideiglenes kerítés, kiegészítő elemek, mobil kerítés tartozékainak beépítése DIRICKX műanyag (gumi) talp M 300 elemhez , méret: 0,68x0,25x0,15 m, magasság: 2,00 m | E14: 8 | F14: db | G14: 0 | H14: 0 | I14: =ROUND(E14*G14, 0) -> 0 | J14: =ROUND(E14*H14, 0) -> 0
B15: 8. | C15: K | D15: Építési tábla költsége | E15: 1 | F15: klt | G15: 0 | H15: 0 | I15: =ROUND(E15*G15, 0) -> 0 | J15: =ROUND(E15*H15, 0) -> 0
D16: MUNKANEM összesen : | I16: =ROUND(SUM(I8:I15),0) -> 0 | J16: =ROUND(SUM(J8:J15),0) -> 0
B19: 2. FELVONULÁSI LÉTESÍTMÉNYEK
B20: 1. | C20: 12-004-6 | D20: Vízhálózat kiépítési költsége és Vízdíj, építés ideje alatt | E20: 1 | F20: klt | G20: 0 | H20: 0 | I20: =ROUND(E20*G20, 0) -> 0 | J20: =ROUND(E20*H20, 0) -> 0
B21: 2. | C21: 12-005-8.2 | D21: Felvonulási csatlakozóhely kiépítése főkapcsolóval és felhasznált elektromos energia költsége az építés ideje alatt | E21: 1 | F21: klt | G21: 0 | H21: 0 | I21: =ROUND(E21*G21, 0) -> 0 | J21: =ROUND(E21*H21, 0) -> 0
B22: 3. | C22: 12-011-1.1-0025002 | D22: Mobil WC bérleti díj elszámolása, szállítással, heti karbantartással | E22: 1 | F22: klt | G22: 0 | H22: 0 | I22: =ROUND(E22*G22, 0) -> 0 | J22: =ROUND(E22*H22, 0) -> 0
B23: 4. | C23: 12-012-1.1.1-0025002 | D23: Konténer bérleti díj elszámolása, raktár konténer, 10,00 m2 alapterületig Raktár konténer, 10,00 m2-ig | E23: 1 | F23: klt | G23: 0 | H23: 0 | I23: =ROUND(E23*G23, 0) -> 0 | J23: =ROUND(E23*H23, 0) -> 0
B24: 5. | C24: 12-021-1.1-0137471 | D24: Ideiglenes kerítés, mobil kerítés elhelyezése (tartozékok külön tételben) DIRICKX M 300 mobilkerítés elem rögzítő bilinccsel, szemméret: 100 x 250 mm, szélesség: 3500 mm, magasság: 2000 mm | E24: 21 | F24: m | G24: 0 | H24: 0 | I24: =ROUND(E24*G24, 0) -> 0 | J24: =ROUND(E24*H24, 0) -> 0
B25: 6. | C25: 12-021-1.2-0137471 | D25: Ideiglenes kerítés, mobil kerítéskapu elhelyezése (tartozékok külön tételben) DIRICKX M 300 mobilkerítés elem rögzítő bilinccsel, szemméret: 100 x 250 mm, szélesség: 3500 mm, magasság: 2000 mm | E25: 1 | F25: db | G25: 0 | H25: 0 | I25: =ROUND(E25*G25, 0) -> 0 | J25: =ROUND(E25*H25, 0) -> 0
B26: 7. | C26: 12-021-1.7.1-0137473 | D26: Ideiglenes kerítés, kiegészítő elemek, mobil kerítés tartozékainak beépítése DIRICKX műanyag (gumi) talp M 300 elemhez , méret: 0,68x0,25x0,15 m, magasság: 2,00 m | E26: 8 | F26: db | G26: 0 | H26: 0 | I26: =ROUND(E26*G26, 0) -> 0 | J26: =ROUND(E26*H26, 0) -> 0
B27: 8. | C27: K | D27: Építési tábla költsége | E27: 1 | F27: klt | G27: 0 | H27: 0 | I27: =ROUND(E27*G27, 0) -> 0 | J27: =ROUND(E27*H27, 0) -> 0
D28: MUNKANEM összesen : | I28: =ROUND(SUM(I20:I27),0) -> 0 | J28: =ROUND(SUM(J20:J27),0) -> 0
B31: 3. KÖLTSÉGTÉRÍTÉSEK
B32: 1. | C32: 19-010-1.11.4 | D32: Általános teendők megvalósulás szakaszában, behajtási engedély díja, | E32: 1 | F32: klt | G32: 0 | H32: 0 | I32: =ROUND(E32*G32, 0) -> 0 | J32: =ROUND(E32*H32, 0) -> 0
B33: 2. | C33: 19-010-1.1.4.1 | D33: Általános teendők tervezési és előkészítési szakaszban, területhasználati díjak, közterületek | E33: 45.88 | F33: m2 | G33: 0 | H33: 0 | I33: =ROUND(E33*G33, 0) -> 0 | J33: =ROUND(E33*H33, 0) -> 0
B34: 3. | C34: 19-010-1.11.1.1 | D34: Általános teendők megvalósulás szakaszában, ellenőrző mérések, épületek geodéziai felmérése - statikai szakvélemény szerint | E34: 1 | F34: klt | G34: 0 | H34: 0 | I34: =ROUND(E34*G34, 0) -> 0 | J34: =ROUND(E34*H34, 0) -> 0
B35: 4. | C35: 19-090-1 | D35: Építmények átadás előtti utolsó takarítása (pipere) a nettó m2-re vetítve | E35: 92.5 | F35: m2 | G35: 0 | H35: 0 | I35: =ROUND(E35*G35, 0) -> 0 | J35: =ROUND(E35*H35, 0) -> 0
B36: 5. | C36: 15-012-6.2 | D36: Homlokzati csőállvány állítása állványcsőből mint munkaállvány, szintenkénti pallóterítéssel, korláttal, lábdeszkával, kétlábas, 0,60-0,90 m padlószélességgel, munkapadló távolság 2,00 m, 2,00 kN/m2 terhelhetőséggel, állványépítés MSZ és alkalmazástechnikai kézikönyv szerint | E36: 16.99 | F36: m2 | G36: 0 | H36: 0 | I36: =ROUND(E36*G36, 0) -> 0 | J36: =ROUND(E36*H36, 0) -> 0
B37: 6. | C37: 15-012-25.1 | D37: Védőfüggöny szerelése állványszerkezetre, műanyag hálóból | E37: 16.99 | F37: m2 | G37: 0 | H37: 0 | I37: =ROUND(E37*G37, 0) -> 0 | J37: =ROUND(E37*H37, 0) -> 0
B38: 7. | C38: 15-012-33.1 | D38: Bakállvány készítése pallóterítéssel, vasbakból, 2,00 kN/m˛ terhelhetőséggel | E38: 31.76 | F38: m2 | G38: 0 | H38: 0 | I38: =ROUND(E38*G38, 0) -> 0 | J38: =ROUND(E38*H38, 0) -> 0
D39: MUNKANEM összesen : | I39: =ROUND(SUM(I32:I38),0) -> 0 | J39: =ROUND(SUM(J32:J38),0) -> 0
B42: 4. KÖLTSÉGTÉRÍTÉSEK
B43: 1. | C43: 19-010-1.11.4 | D43: Általános teendők megvalósulás szakaszában, behajtási engedély díja, | E43: 1 | F43: klt | G43: 0 | H43: 0 | I43: =ROUND(E43*G43, 0) -> 0 | J43: =ROUND(E43*H43, 0) -> 0
B44: 2. | C44: 19-010-1.1.4.1 | D44: Általános teendők tervezési és előkészítési szakaszban, területhasználati díjak, közterületek | E44: 45.88 | F44: m2 | G44: 0 | H44: 0 | I44: =ROUND(E44*G44, 0) -> 0 | J44: =ROUND(E44*H44, 0) -> 0
B45: 3. | C45: 19-090-1 | D45: Építmények átadás előtti utolsó takarítása (pipere) a nettó m2-re vetítve | E45: 92.5 | F45: m2 | G45: 0 | H45: 0 | I45: =ROUND(E45*G45, 0) -> 0 | J45: =ROUND(E45*H45, 0) -> 0
B46: 4. | C46: K | D46: Festés előtti padlóburkolat védelme ( pl : hullámpapírral ) | E46: 92.5 | F46: m2 | G46: 0 | H46: 0 | I46: =ROUND(E46*G46, 0) -> 0 | J46: =ROUND(E46*H46, 0) -> 0
B47: 5. | C47: K | D47: Festés előtti nyílászárók védelme | E47: 1 | F47: klt | G47: 0 | H47: 0 | I47: =ROUND(E47*G47, 0) -> 0 | J47: =ROUND(E47*H47, 0) -> 0
B48: 6. | C48: 15-012-6.2 | D48: Homlokzati csőállvány állítása állványcsőből mint munkaállvány, szintenkénti pallóterítéssel, korláttal, lábdeszkával, kétlábas, 0,60-0,90 m padlószélességgel, munkapadló távolság 2,00 m, 2,00 kN/m2 terhelhetőséggel, állványépítés MSZ és alkalmazástechnikai kézikönyv szerint | E48: 89.78 | F48: m2 | G48: 0 | H48: 0 | I48: =ROUND(E48*G48, 0) -> 0 | J48: =ROUND(E48*H48, 0) -> 0
B49: 7. | C49: 15-012-25.1 | D49: Védőfüggöny szerelése állványszerkezetre, műanyag hálóból | E49: 89.78 | F49: m2 | G49: 0 | H49: 0 | I49: =ROUND(E49*G49, 0) -> 0 | J49: =ROUND(E49*H49, 0) -> 0
...
